BEGIN:VCALENDAR
VERSION:2.0
PRODID:-//Angelsportverein Heede (Ems) e. V. - ECPv6.11.2.1//NONSGML v1.0//EN
CALSCALE:GREGORIAN
METHOD:PUBLISH
X-ORIGINAL-URL:https://sfv-heede.de
X-WR-CALDESC:Veranstaltungen für Angelsportverein Heede (Ems) e. V.
REFRESH-INTERVAL;VALUE=DURATION:PT1H
X-Robots-Tag:noindex
X-PUBLISHED-TTL:PT1H
BEGIN:VTIMEZONE
TZID:Europe/Berlin
BEGIN:DAYLIGHT
TZOFFSETFROM:+0100
TZOFFSETTO:+0200
TZNAME:CEST
DTSTART:20200329T010000
END:DAYLIGHT
BEGIN:STANDARD
TZOFFSETFROM:+0200
TZOFFSETTO:+0100
TZNAME:CET
DTSTART:20201025T010000
END:STANDARD
END:VTIMEZONE
BEGIN:VEVENT
DTSTART;TZID=Europe/Berlin:20200110T190000
DTEND;TZID=Europe/Berlin:20200110T233000
DTSTAMP:20260425T150051
CREATED:20200105T112828Z
LAST-MODIFIED:20200105T115042Z
UID:901-1578682800-1578699000@sfv-heede.de
SUMMARY:Öffentliches Doppelkopfturnier
DESCRIPTION:Hiermit möchten wir euch ganz herzlich zu unserem Doppelkopfturnier einladen. Teilnehmen kann jeder\, eine Mitgliedschaft ist nicht erforderlich. Auf die erfolgreichsten Spieler warten wieder einmal wertvolle Preise!! Wir freuen uns auf deine Teilnahme!
URL:https://sfv-heede.de/veranstaltung/oeffentliches-doppelkopfturnier/
LOCATION:Vereinsheim bei der 1000-jährigen Linde\, Burgstiege\, Heede\, 26892
CATEGORIES:SFV-Veranstaltung
ORGANIZER;CN="Angelsportverein Heede (Ems) e. V.":MAILTO:aloys-terhorst@web.de
END:VEVENT
END:VCALENDAR