BEGIN:VCALENDAR
VERSION:2.0
PRODID:-//Angelsportverein Heede (Ems) e. V. - ECPv6.11.2.1//NONSGML v1.0//EN
CALSCALE:GREGORIAN
METHOD:PUBLISH
X-ORIGINAL-URL:https://sfv-heede.de
X-WR-CALDESC:Veranstaltungen für Angelsportverein Heede (Ems) e. V.
REFRESH-INTERVAL;VALUE=DURATION:PT1H
X-Robots-Tag:noindex
X-PUBLISHED-TTL:PT1H
BEGIN:VTIMEZONE
TZID:Europe/Berlin
BEGIN:DAYLIGHT
TZOFFSETFROM:+0100
TZOFFSETTO:+0200
TZNAME:CEST
DTSTART:20200329T010000
END:DAYLIGHT
BEGIN:STANDARD
TZOFFSETFROM:+0200
TZOFFSETTO:+0100
TZNAME:CET
DTSTART:20201025T010000
END:STANDARD
END:VTIMEZONE
BEGIN:VEVENT
DTSTART;TZID=Europe/Berlin:20200215T090000
DTEND;TZID=Europe/Berlin:20200215T123000
DTSTAMP:20260424T213147
CREATED:20200105T114613Z
LAST-MODIFIED:20200105T115637Z
UID:903-1581757200-1581769800@sfv-heede.de
SUMMARY:Arbeitseinsatz
DESCRIPTION:Hiermit möchten wir euch ganz herzlich zum Arbeitseinsatz einladen. Hierbei möchten wir mit euch zusammen unser Vereinsheim instandhalten und die Gewässer von Unrat befreien. Anschließend gibt es zur Stärkung\, leckere Erbsensuppe! Wir würden uns freuen\, wenn wir wiedereinmal viele Mitglieder begrüßen dürfen!
URL:https://sfv-heede.de/veranstaltung/arbeitseinsatz/
LOCATION:Vereinsheim bei der 1000-jährigen Linde\, Burgstiege\, Heede\, 26892
CATEGORIES:SFV-Veranstaltung
ORGANIZER;CN="Angelsportverein Heede (Ems) e. V.":MAILTO:aloys-terhorst@web.de
END:VEVENT
END:VCALENDAR