BEGIN:VCALENDAR
VERSION:2.0
PRODID:-//Angelsportverein Heede (Ems) e. V. - ECPv6.11.2.1//NONSGML v1.0//EN
CALSCALE:GREGORIAN
METHOD:PUBLISH
X-ORIGINAL-URL:https://sfv-heede.de
X-WR-CALDESC:Veranstaltungen für Angelsportverein Heede (Ems) e. V.
REFRESH-INTERVAL;VALUE=DURATION:PT1H
X-Robots-Tag:noindex
X-PUBLISHED-TTL:PT1H
BEGIN:VTIMEZONE
TZID:Europe/Berlin
BEGIN:DAYLIGHT
TZOFFSETFROM:+0100
TZOFFSETTO:+0200
TZNAME:CEST
DTSTART:20200329T010000
END:DAYLIGHT
BEGIN:STANDARD
TZOFFSETFROM:+0200
TZOFFSETTO:+0100
TZNAME:CET
DTSTART:20201025T010000
END:STANDARD
END:VTIMEZONE
BEGIN:VEVENT
DTSTART;TZID=Europe/Berlin:20200926T060000
DTEND;TZID=Europe/Berlin:20200926T120000
DTSTAMP:20260421T215301
CREATED:20200105T123352Z
LAST-MODIFIED:20200105T123352Z
UID:918-1601100000-1601121600@sfv-heede.de
SUMMARY:Abangeln
DESCRIPTION:Am 26. September findet das Abangeln statt. Hierzu möchten wir alle Mitglieder und ganz besonders die Jugendgruppe ganz herzlich einladen! Wir treffen uns um 6:00 Uhr an der Fischerhütte. Wertvolle Preise warten auf die erfolgreichsten Petrijünger!! Wir freuen uns auf zahlreiche Teilnahme!
URL:https://sfv-heede.de/veranstaltung/abangeln/
LOCATION:Vereinsheim bei der 1000-jährigen Linde\, Burgstiege\, Heede\, 26892
CATEGORIES:SFV-Veranstaltung
ORGANIZER;CN="Angelsportverein Heede (Ems) e. V.":MAILTO:aloys-terhorst@web.de
END:VEVENT
END:VCALENDAR