BEGIN:VCALENDAR
VERSION:2.0
PRODID:-//Angelsportverein Heede (Ems) e. V. - ECPv6.11.2.1//NONSGML v1.0//EN
CALSCALE:GREGORIAN
METHOD:PUBLISH
X-WR-CALNAME:Angelsportverein Heede (Ems) e. V.
X-ORIGINAL-URL:https://sfv-heede.de
X-WR-CALDESC:Veranstaltungen für Angelsportverein Heede (Ems) e. V.
REFRESH-INTERVAL;VALUE=DURATION:PT1H
X-Robots-Tag:noindex
X-PUBLISHED-TTL:PT1H
BEGIN:VTIMEZONE
TZID:Europe/Berlin
BEGIN:DAYLIGHT
TZOFFSETFROM:+0100
TZOFFSETTO:+0200
TZNAME:CEST
DTSTART:20200329T010000
END:DAYLIGHT
BEGIN:STANDARD
TZOFFSETFROM:+0200
TZOFFSETTO:+0100
TZNAME:CET
DTSTART:20201025T010000
END:STANDARD
END:VTIMEZONE
BEGIN:VEVENT
DTSTART;TZID=Europe/Berlin:20200110T190000
DTEND;TZID=Europe/Berlin:20200110T233000
DTSTAMP:20260425T133320
CREATED:20200105T112828Z
LAST-MODIFIED:20200105T115042Z
UID:901-1578682800-1578699000@sfv-heede.de
SUMMARY:Öffentliches Doppelkopfturnier
DESCRIPTION:Hiermit möchten wir euch ganz herzlich zu unserem Doppelkopfturnier einladen. Teilnehmen kann jeder\, eine Mitgliedschaft ist nicht erforderlich. Auf die erfolgreichsten Spieler warten wieder einmal wertvolle Preise!! Wir freuen uns auf deine Teilnahme!
URL:https://sfv-heede.de/veranstaltung/oeffentliches-doppelkopfturnier/
LOCATION:Vereinsheim bei der 1000-jährigen Linde\, Burgstiege\, Heede\, 26892
CATEGORIES:SFV-Veranstaltung
ORGANIZER;CN="Angelsportverein Heede (Ems) e. V.":MAILTO:aloys-terhorst@web.de
END:VEVENT
BEGIN:VEVENT
DTSTART;TZID=Europe/Berlin:20200117T190000
DTEND;TZID=Europe/Berlin:20200117T210000
DTSTAMP:20260425T133320
CREATED:20191226T084002Z
LAST-MODIFIED:20191226T084002Z
UID:897-1579287600-1579294800@sfv-heede.de
SUMMARY:Lehrgang zur Vorbereitung auf die Fischerprüfung
DESCRIPTION:Beginn und Anmeldung zum Lehrgang. Es werden grundsätzliche Dinge zum Ablauf etc. erläutert und der weitere Verlauf besprochen. \nBitte einen gültigen Personalausweis mitbringen. \nDer eigentliche Lehrgang startet dann am 24.01.2019 \n 
URL:https://sfv-heede.de/veranstaltung/lehrgang-zur-vorbereitung-auf-die-fischerpruefung-5/
LOCATION:Vereinsheim bei der 1000-jährigen Linde\, Burgstiege\, Heede\, 26892
END:VEVENT
BEGIN:VEVENT
DTSTART;TZID=Europe/Berlin:20200124T180000
DTEND;TZID=Europe/Berlin:20200124T220000
DTSTAMP:20260425T133320
CREATED:20191223T090609Z
LAST-MODIFIED:20191223T092543Z
UID:882-1579888800-1579903200@sfv-heede.de
SUMMARY:Lehrgang zur Vorbereitung auf die Fischerprüfung
DESCRIPTION:Zur Vorbereitung auf die Fischerprüfung findet im Vereinsheim des SFV – Heede e. V. ein Lehrgang statt. \nDer Lehrgang beinhaltet folgende Bereiche: \n\nAllgemeine Fischkunde\nSpezielle Fischkunde\nGewässerkunde\nGerätekunde\nGesetzliche Grundlagen\nUmwelt und Naturschutz\n\nInsgesamt 2 Wochenenden\n– Freitags von 18:00 – 22:00 Uhr\n– Samstags von 10:00 – 18:00 Uhr. \nBitte Personalausweis am Anmeldetag mitbringen
URL:https://sfv-heede.de/veranstaltung/lehrgang-zur-vorbereitung-auf-die-fischerpruefung/
LOCATION:Vereinsheim bei der 1000-jährigen Linde\, Burgstiege\, Heede\, 26892
CATEGORIES:SFV-Veranstaltung
END:VEVENT
BEGIN:VEVENT
DTSTART;TZID=Europe/Berlin:20200125T100000
DTEND;TZID=Europe/Berlin:20200125T180000
DTSTAMP:20260425T133320
CREATED:20191223T092422Z
LAST-MODIFIED:20191223T093123Z
UID:886-1579946400-1579975200@sfv-heede.de
SUMMARY:Lehrgang zur Vorbereitung auf die Fischerprüfung
DESCRIPTION:Zur Vorbereitung auf die Fischerprüfung findet im Vereinsheim des SFV – Heede e. V. ein Lehrgang statt. \nDer Lehrgang beinhaltet folgende Bereiche: \n\nAllgemeine Fischkunde\nSpezielle Fischkunde\nGewässerkunde\nGerätekunde\nGesetzliche Grundlagen\nUmwelt und Naturschutz\n\nInsgesamt 2 Wochenenden\n– Freitags von 18:00 – 22:00 Uhr\n– Samstags von 10:00 – 18:00 Uhr. \nBitte Personalausweis am Anmeldetag mitbringen
URL:https://sfv-heede.de/veranstaltung/lehrgang-zur-vorbereitung-auf-die-fischerpruefung-2/
LOCATION:Vereinsheim bei der 1000-jährigen Linde\, Burgstiege\, Heede\, 26892
CATEGORIES:SFV-Veranstaltung
END:VEVENT
BEGIN:VEVENT
DTSTART;TZID=Europe/Berlin:20200131T180000
DTEND;TZID=Europe/Berlin:20200131T220000
DTSTAMP:20260425T133320
CREATED:20191223T092731Z
LAST-MODIFIED:20191223T093100Z
UID:888-1580493600-1580508000@sfv-heede.de
SUMMARY:Lehrgang zur Vorbereitung auf die Fischerprüfung
DESCRIPTION:Zur Vorbereitung auf die Fischerprüfung findet im Vereinsheim des SFV – Heede e. V. ein Lehrgang statt. \nDer Lehrgang beinhaltet folgende Bereiche: \n\nAllgemeine Fischkunde\nSpezielle Fischkunde\nGewässerkunde\nGerätekunde\nGesetzliche Grundlagen\nUmwelt und Naturschutz\n\nInsgesamt 2 Wochenenden\n– Freitags von 18:00 – 22:00 Uhr\n– Samstags von 10:00 – 18:00 Uhr. \nBitte Personalausweis am Anmeldetag mitbringen
URL:https://sfv-heede.de/veranstaltung/lehrgang-zur-vorbereitung-auf-die-fischerpruefung-3/
LOCATION:Vereinsheim bei der 1000-jährigen Linde\, Burgstiege\, Heede\, 26892
CATEGORIES:SFV-Veranstaltung
END:VEVENT
END:VCALENDAR