BEGIN:VCALENDAR
VERSION:2.0
PRODID:-//Angelsportverein Heede (Ems) e. V. - ECPv6.11.2.1//NONSGML v1.0//EN
CALSCALE:GREGORIAN
METHOD:PUBLISH
X-WR-CALNAME:Angelsportverein Heede (Ems) e. V.
X-ORIGINAL-URL:https://sfv-heede.de
X-WR-CALDESC:Veranstaltungen für Angelsportverein Heede (Ems) e. V.
REFRESH-INTERVAL;VALUE=DURATION:PT1H
X-Robots-Tag:noindex
X-PUBLISHED-TTL:PT1H
BEGIN:VTIMEZONE
TZID:Europe/Berlin
BEGIN:DAYLIGHT
TZOFFSETFROM:+0100
TZOFFSETTO:+0200
TZNAME:CEST
DTSTART:20200329T010000
END:DAYLIGHT
BEGIN:STANDARD
TZOFFSETFROM:+0200
TZOFFSETTO:+0100
TZNAME:CET
DTSTART:20201025T010000
END:STANDARD
END:VTIMEZONE
BEGIN:VEVENT
DTSTART;TZID=Europe/Berlin:20200717T150000
DTEND;TZID=Europe/Berlin:20200717T173000
DTSTAMP:20260423T145816
CREATED:20200105T121842Z
LAST-MODIFIED:20200105T121928Z
UID:914-1594998000-1595007000@sfv-heede.de
SUMMARY:Ferienpassaktion
DESCRIPTION:Am 17. Juli findet um 15:00 Uhr das Ferienpassangeln an der Gräfte statt. Nach dem Angeln gibt es zur Stärkung leckere Grillwürstchen und Geschenke für alle Teilnehmer. Wir würden uns freuen\, wenn uns einige Helfer unterstützen.
URL:https://sfv-heede.de/veranstaltung/ferienpassaktion/
LOCATION:Vereinsheim bei der 1000-jährigen Linde\, Burgstiege\, Heede\, 26892
CATEGORIES:SFV-Veranstaltung
ORGANIZER;CN="Angelsportverein Heede (Ems) e. V.":MAILTO:aloys-terhorst@web.de
END:VEVENT
BEGIN:VEVENT
DTSTART;TZID=Europe/Berlin:20200725T190000
DTEND;TZID=Europe/Berlin:20200725T233000
DTSTAMP:20260423T145816
CREATED:20200105T122858Z
LAST-MODIFIED:20200105T122858Z
UID:916-1595703600-1595719800@sfv-heede.de
SUMMARY:Traditionelles Königsangeln
DESCRIPTION:Hiermit möchten wir alle Mitglieder ganz herzlich zum traditionellen Königsangeln einladen. Hierzu treffen wir uns um 19:00 Uhr an der Fischerhütte. Gegen 23 Uhr treffen wir uns dann zum Abwiegen mit Siegerehrung.  Wir freuen uns auf zahlreiche Teilnahme!!!
URL:https://sfv-heede.de/veranstaltung/traditionelles-koenigsangeln/
LOCATION:Vereinsheim bei der 1000-jährigen Linde\, Burgstiege\, Heede\, 26892
CATEGORIES:SFV-Veranstaltung
ORGANIZER;CN="Angelsportverein Heede (Ems) e. V.":MAILTO:aloys-terhorst@web.de
END:VEVENT
END:VCALENDAR